BEGIN:VCALENDAR
VERSION:2.0
PRODID:-//Department Of Education//a872c70b-c6b7-4edd-86b2-48dd33b10217
BEGIN:VTIMEZONE
TZID:Australia/Sydney
TZURL:http://tzurl.org/zoneinfo-outlook/Australia/Sydney
X-LIC-LOCATION:Australia/Sydney
BEGIN:STANDARD
TZOFFSETFROM:+1100
TZOFFSETTO:+1000
TZNAME:AEST
DTSTART:19700405T030000
RRULE:FREQ=YEARLY;BYMONTH=4;BYDAY=1SU
END:STANDARD
BEGIN:DAYLIGHT
TZOFFSETFROM:+1000
TZOFFSETTO:+1100
TZNAME:AEDT
DTSTART:19701004T020000
RRULE:FREQ=YEARLY;BYMONTH=10;BYDAY=1SU
END:DAYLIGHT
END:VTIMEZONE
CALSCALE:GREGORIAN
X-WR-TIMEZONE:Australia/Sydney
BEGIN:VEVENT
DTSTART;TZID=Australia/Sydney:20200302T090059
DTEND;TZID=Australia/Sydney:20200302T030008
DTSTAMP:20200302T000000Z
UID:817af66c-aad2-4d27-aff9-2fd3b7298b7c
LOCATION:Classroom 
SUMMARY;LANGUAGE=en-us:The Big Vegetable Crunch -Lettuce Crunch
SEQUENCE:0
DESCRIPTION:Encourage parents to send in veggies to guide students to taste.  Note will send home. data collection.  
END:VEVENT
TRANSP:TRANSPARENT
END:VCALENDAR
